BEGIN:VCALENDAR
VERSION:2.0
PRODID:-//Campoder - ECPv6.15.20//NONSGML v1.0//EN
CALSCALE:GREGORIAN
METHOD:PUBLISH
X-ORIGINAL-URL:https://www.campoder.es
X-WR-CALDESC:Eventos para Campoder
REFRESH-INTERVAL;VALUE=DURATION:PT1H
X-Robots-Tag:noindex
X-PUBLISHED-TTL:PT1H
BEGIN:VTIMEZONE
TZID:Europe/Madrid
BEGIN:DAYLIGHT
TZOFFSETFROM:+0100
TZOFFSETTO:+0200
TZNAME:CEST
DTSTART:20250330T010000
END:DAYLIGHT
BEGIN:STANDARD
TZOFFSETFROM:+0200
TZOFFSETTO:+0100
TZNAME:CET
DTSTART:20251026T010000
END:STANDARD
BEGIN:DAYLIGHT
TZOFFSETFROM:+0100
TZOFFSETTO:+0200
TZNAME:CEST
DTSTART:20260329T010000
END:DAYLIGHT
BEGIN:STANDARD
TZOFFSETFROM:+0200
TZOFFSETTO:+0100
TZNAME:CET
DTSTART:20261025T010000
END:STANDARD
BEGIN:DAYLIGHT
TZOFFSETFROM:+0100
TZOFFSETTO:+0200
TZNAME:CEST
DTSTART:20270328T010000
END:DAYLIGHT
BEGIN:STANDARD
TZOFFSETFROM:+0200
TZOFFSETTO:+0100
TZNAME:CET
DTSTART:20271031T010000
END:STANDARD
END:VTIMEZONE
BEGIN:VEVENT
DTSTART;TZID=Europe/Madrid:20260305T190000
DTEND;TZID=Europe/Madrid:20260305T200000
DTSTAMP:20260422T185413
CREATED:20260227T091838Z
LAST-MODIFIED:20260227T091838Z
UID:11532-1772737200-1772740800@www.campoder.es
SUMMARY:Presentación 'Memorables Murcia Rural Campoder' Andrés Nieto Conesa
DESCRIPTION:Este corto documental forma parte de la serie MEMORABLES\, serie que aborda la historia de vida de una veintena de personas que residen en los municipios rurales de la Región de Murcia y se han considerado dignas de memoria. \nEsta vez es el turno de conocer la historia de Andrés Nieto\, que ha sido durante 43 años el pediatra de Fuente Álamo\, además de ser el Cronista Oficial de Fuente Álamo.
URL:https://www.campoder.es/evento/presentacion-memorables-murcia-rural-campoder-andres-nieto-conesa/
LOCATION:Centro Agrario de Fuente Álamo\, Av. Gran Vía Mártires del Castillo de Olite\, 44\, Fuente Álamo\, Murcia\, 30320\, España
ATTACH;FMTTYPE=image/jpeg:https://www.campoder.es/wp-content/uploads/2026/02/Invitacion_Memorable_AndresNieto.jpeg
END:VEVENT
END:VCALENDAR